Workbook
Name _: #REF!
Name _: #REF!
Name _: #REF!
Name _.4: #REF!
Name _.4: #REF!
Name _.4: #REF!
Name _?__C: #REF!
Name _?__C: #REF!
Name _?__C: #REF!
Name _1.매출채권: #REF!
Name _1.매출채권: #REF!
Name _1.매출채권: #REF!
Name _4분기: {0;0;0;0;1;#N/A;0;0;0.3;0.3;2;FALSE;FALSE;FALSE;FALSE;FALSE;#N/A;1;96;#N/A;#N/A;"";""}
Name _DAT1: #REF!
Name _DAT1: #REF!
Name _DAT1: #REF!
Name _DAT10: #REF!
Name _DAT10: #REF!
Name _DAT10: #REF!
Name _DAT11: #REF!
Name _DAT11: #REF!
Name _DAT11: #REF!
Name _DAT12: #REF!
Name _DAT12: #REF!
Name _DAT12: #REF!
Name _DAT13: #REF!
Name _DAT13: #REF!
Name _DAT13: #REF!
Name _DAT14: #REF!
Name _DAT14: #REF!
Name _DAT14: #REF!
Name _DAT15: #REF!
Name _DAT15: #REF!
Name _DAT15: #REF!
Name _DAT16: #REF!
Name _DAT16: #REF!
Name _DAT16: #REF!
Name _DAT2: #REF!
Name _DAT2: #REF!
Name _DAT2: #REF!
Name _DAT5: #REF!
Name _DAT5: #REF!
Name _DAT5: #REF!
Name _DAT6: #REF!
Name _DAT6: #REF!
Name _DAT6: #REF!
Name _DAT9: #REF!
Name _DAT9: #REF!
Name _DAT9: #REF!
Name _Report: 0
Name _S_Base: {0.1;0;0.382758620689655;0;0;0;0.258620689655172;0;0.258620689655172}
Name _S_new_case: {0.1;0;0.45;0;0;0;0;0;0.45}
Name _Z5.5_Discounted_Cash_Flow_2: {0;0;0;0;1;#N/A;0;0;0.3;0.3;2;FALSE;FALSE;FALSE;FALSE;FALSE;#N/A;1;#N/A;1;1;"";""}
Name _Zprint_all: {0;0;0;0;1;#N/A;0;0;0.3;0.3;2;FALSE;FALSE;FALSE;FALSE;FALSE;#N/A;1;96;#N/A;#N/A;"";""}
Name _Zprint_area: {0;0;0;0;1;#N/A;0;0;0.3;0.3;2;FALSE;FALSE;FALSE;FALSE;FALSE;#N/A;1;100;#N/A;#N/A;"";""}
Name ¸AAa¿ø°¡: #REF!
Name ¸AAa¿ø°¡: #REF!
Name ¸AAa¿ø°¡: #REF!
Name \b: #REF!
Name \b: #REF!

Sheet 1. 기본사항
A1: 회사명 | B1: 구분 | C1: 부서명 | D1: 직위 | E1: 성명 | F1: 전화번호 | G1: email
B2: 작성자
B3: 확인자
A5: Ⅰ. 대출금리체계 관련 내부규정 보유 여부 : (보유 / 미보유)
A6: → 내규 보유시 내규명 :
A7: → 내규 보유시 내규 파일 첨부 제출
A9: Ⅱ. 인터넷기반 개인신용대출1) 취급 여부 : (취급 / 미취급)
A15: 주: 1) 인터넷기반 개인신용대출 : 인터넷화면 등을 통해 대출신청 및 대출실행 등 비대면 신용대출 취급을 의미
A16: 2) 빈 칸에는 인터넷기반 개인신용대출 취급시 CSS 활용 여부, 방법 등을 자세히 기재
A18: Ⅲ. 신용평가시스템(CSS) 구축 및 운용 현황 (아래 '작성요령' 참고)
A19: 이용여부 (주1) | D19: CSS 모형 관련 데이터 적용 범위 (주2) | F19: CSS 모형 사용시 이용 지표 (주4)
A20: CB등급 | B20: CSS평점
B21: ASS | C21: BSS | D21: 당해 대부회사 | E21: 외부(주3)
A26: Ⅳ. 해당 CSS의 개략적인 내용(자유롭게 기재 - 미구축 대부회사의 경우 향후 도입 계획 등)
A31: 주) CSS 도입시기, 신용등급에 따른 금리 차등 적용 여부, 향후 계획 및 시기 등
A33: Ⅴ. 표준 CSS 도입 필요성 : (있다 / 없다)
A34: 표준 CSS 도입시 활용 의사 : (있다 / 없다)
A35: 주) CSS 구축비용 부담이 상당하여 자체 CSS 구축이 어려울 경우, 표준 CSS가 마련될 경우 활용할 의사 유무
A36: <작성요령>
A37: 주: 1) CB등급 또는 회사 내부 신용평가모형(CSS시스템 등)을 이용하여 신용평점 등을 산출하고 이를 대출심사시 반영하는지 여부
A38: ASS : Application Scoring System : 신규거래 고객에 대한 신용평가모형
A39: BSS : Behavior Scoring System : 기존거래 고객에 대한 신용평가모형
A41: 작성 예시) :
A42: 이용여부 | D42: 대출 심사시
A43: CB등급 | B43: CSS평점
B44: ASS | C44: BSS
A45: O | B45: X | C45: X | D45: Case 1 : CB등급만 이용
A46: X | B46: O | C46: X | D46: Case 2 : CB등급은 이용하지 않고, CSS시스템을 구축하였고 ASS만 이용
A47: X | B47: X | C47: O | D47: Case 3 : CB등급은 이용하지 않고, CSS시스템을 구축하였고 BSS만 이용
A48: X | B48: O | C48: O | D48: Case 3 : CB등급은 이용하지 않고, CSS시스템을 구축하였고 ASS 및 BSS 모두 이용
A49: O | B49: O | C49: O | D49: Case 4 : CB등급을 이용하고, CSS시스템을 구축하여 ASS 및 BSS 모두 이용
A51: 주: 2) CSS 모형에 당해 회사에 축적된 경험데이터를 적용했는지, 아니면 외부 데이터를 적용했는지
A52: 주: 3) 외부데이터를 이용한 경우 어떤 데이터를 이용했는지 기재
A53: ex :
A54: CSS 모형 관련 데이터 적용 범위
A55: 당해 대부회사 | B55: 외부
A56: O | B56: X | C56: Case 1 : 당해 회사 데이터만 적용시
A57: X | B57: 은행연합회 | C57: Case 2 : 외부(ex : 은행연합회, NICE, KCB 등) 데이터만 적용시
A58: O | B58: NICE | C58: Case 3 : 당해 대부회사 데이터 및 외부(ex : 은행연합회, NICE, KCB 등) 데이터 적용시
A59: * 은행연합회, NICE, KCB 등 여러 개의 외부데이터 이용시 해당기관 모두 기재
A61: 주: 4) ex : 금융거래량, 고객자산, 연체이력 등 세부항목 모두 기재

Sheet 2. CSS 평가항목 및 프로세스 현황
A1: 회사명 | B1: 구분 | C1: 부서명 | D1: 직위 | E1: 성명 | F1: 전화번호 | G1: email
B2: 작성자
B3: 확인자
A5: Ⅵ. CSS 평가 항목
A7: 1) 외부 CB사로부터 받는 세부적인 자료
A12: * 연체일수, 연체건수 등 관련 연체정보 및 대출정보 등 CB사로부터 받는 항목들에 대해 구체적으로 작성
A14: 2) 대부회사 자체 추가 평가항목
A21: * 외부CB사부터 받은 자료 등과 함께 회사 내부적으로 적용하는 자체 평가항목들에 대해 구체적으로 작성(직업, 당사 및 타사 대출기록 등)
A22: ** 자체적인 스코어카드 등 해당 내용(직업군, 자체등급 등을 반영한 자료)에 대해 작성(Cut off 등 내용 포함)
A24: Ⅶ. CSS 흐름도 등 프로세스 현황
A29: * 예) 외부CB사 정보 -> 고객정보 등 자체평가항목 적용 -> Cut off 적용 -> 한도결정 등에 대한 흐름도 있을 경우 첨부
A30: ※ 빈 칸의 내용 작성시 공간이 부족하면 자유롭게 칸을 넓혀 기재 가능

Sheet 3. 부도율 산출
A1: 회사명 | B1: 구분 | C1: 부서명 | D1: 직위 | E1: 성명 | F1: 전화번호 | G1: email
B2: 작성자
B3: 확인자
A5: Ⅷ. 귀 대부회사의 개인신용대출 상품을 이용중인 차주별로 부도율(불량률, 부실율)을 산출하고 있는지 여부 : (산출 / 미산출)
A7: 1. 대부회사의 개인 신용평가시스템(CSS)에 따라 산출된 신용등급의 등급별 부도율
A9: 가. 자체 CSS를 사용하고 있는 대부회사
L10: (단위 : %)
A11: 자체 CSS 등급 | B11: 1등급 | C11: 2등급 | D11: 3등급 | E11: 4등급 | F11: 5등급 | G11: 6등급 | H11: 7등급 | I11: 8등급 | J11: 9등급 | K11: 10등급 | L11: 1)
A12: 부도율 | B12: O.OO
A13: 주 : 1) 내부 CSS 신용동급이 10등급 체계가 아닌 경우, 열을 추가 또는 삭제하여 작성 가능
A15: 부도율 산정기준 | B15: 부도율 정의 | C15: ⇒ (기재)
B16: 개발 데이터 대상 기간 | C16: ⇒ (예시)
A18: 나. CSS를 사용하지 않는 대부회사 (금리차등화 또는 금리부과방식 설명)
A26: 예) - 자체 CSS가 구축되어 있지 않으나 금리 차등화 시행 → 구체적 방법 기술
A27: - 신용등급별 금리 차등화하지 않고 일괄적으로 법적 최고금리 부과
A28: - 일괄 최고금리 부과하되 일부 우량 기존 고객 금리우대 → 우대방법 구체적으로 기술

Sheet 4-1.금액대별대출금명세
B1: 회사명 | C1: 구분 | D1: 부서명 | E1: 직위 | F1: 성명 | G1: 전화번호 | H1: email
C2: 작성자
C3: 확인자
A5: 4-1. 금액대별 대출금 명세
P6: (단위 : 명, 원)
A7: 구 분 | E7: 300만원 이하 | G7: 300만원 초과 500만원 이하 | I7: 500만원 초과 1,000만원 이하 | K7: 1,000만원 초과 5,000만원 이하 | M7: 5,000만원 초과 | O7: 합 계
E8: 거래자수 | F8: 금액 | G8: 거래자수 | H8: 금액 | I8: 거래자수 | J8: 금액 | K8: 거래자수 | L8: 금액 | M8: 거래자수 | N8: 금액 | O8: 거래자수 | P8: 금액
A9: AA | B9: 개인 대출 | C9: 신용대출 | O9: =SUM(E9,G9,I9,K9,M9) -> 0 | P9: =SUM(F9,H9,J9,L9,N9) -> 0
A10: AB1 | C10: 담보대출 | D10: 주택담보대출 | O10: =SUM(E10,G10,I10,K10,M10) -> 0 | P10: =SUM(F10,H10,J10,L10,N10) -> 0
A11: AB2 | D11: 기타담보대출 | O11: =SUM(E11,G11,I11,K11,M11) -> 0 | P11: =SUM(F11,H11,J11,L11,N11) -> 0
A12: AB | D12: 소계 | E12: =SUM(E10:E11) -> 0 | F12: =SUM(F10:F11) -> 0 | G12: =SUM(G10:G11) -> 0 | H12: =SUM(H10:H11) -> 0 | I12: =SUM(I10:I11) -> 0 | J12: =SUM(J10:J11) -> 0 | K12: =SUM(K10:K11) -> 0 | L12: =SUM(L10:L11) -> 0 | ... N12: =SUM(N10:N11) -> 0 | O12: =SUM(E12,G12,I12,K12,M12) -> 0 | P12: =SUM(F12,H12,J12,L12,N12) -> 0
A13: AC | C13: 기타대출 | O13: =SUM(E13,G13,I13,K13,M13) -> 0 | P13: =SUM(F13,H13,J13,L13,N13) -> 0
A14: A | C14: 소 계 | E14: =SUM(E9,E12,E13) -> 0 | F14: =SUM(F9,F12,F13) -> 0 | G14: =SUM(G9,G12,G13) -> 0 | H14: =SUM(H9,H12,H13) -> 0 | I14: =SUM(I9,I12,I13) -> 0 | J14: =SUM(J9,J12,J13) -> 0 | K14: =SUM(K9,K12,K13) -> 0 | L14: =SUM(L9,L12,L13) -> 0 | ... N14: =SUM(N9,N12,N13) -> 0 | O14: =SUM(E14,G14,I14,K14,M14) -> 0 | P14: =SUM(F14,H14,J14,L14,N14) -> 0
A15: BA | B15: 중소 기업 대출 | C15: 신용대출 | O15: =SUM(E15,G15,I15,K15,M15) -> 0 | P15: =SUM(F15,H15,J15,L15,N15) -> 0
A16: BB1 | C16: 담보대출 | D16: 주택담보대출 | O16: =SUM(E16,G16,I16,K16,M16) -> 0 | P16: =SUM(F16,H16,J16,L16,N16) -> 0
A17: BB2 | D17: 기타담보대출 | O17: =SUM(E17,G17,I17,K17,M17) -> 0 | P17: =SUM(F17,H17,J17,L17,N17) -> 0
A18: BB | D18: 소계 | E18: =SUM(E16:E17) -> 0 | F18: =SUM(F16:F17) -> 0 | G18: =SUM(G16:G17) -> 0 | H18: =SUM(H16:H17) -> 0 | I18: =SUM(I16:I17) -> 0 | J18: =SUM(J16:J17) -> 0 | K18: =SUM(K16:K17) -> 0 | L18: =SUM(L16:L17) -> 0 | ... N18: =SUM(N16:N17) -> 0 | O18: =SUM(E18,G18,I18,K18,M18) -> 0 | P18: =SUM(F18,H18,J18,L18,N18) -> 0
A19: BC | C19: 기타대출 | O19: =SUM(E19,G19,I19,K19,M19) -> 0 | P19: =SUM(F19,H19,J19,L19,N19) -> 0
A20: B | C20: 소 계 | E20: =SUM(E15,E18,E19) -> 0 | F20: =SUM(F15,F18,F19) -> 0 | G20: =SUM(G15,G18,G19) -> 0 | H20: =SUM(H15,H18,H19) -> 0 | I20: =SUM(I15,I18,I19) -> 0 | J20: =SUM(J15,J18,J19) -> 0 | K20: =SUM(K15,K18,K19) -> 0 | L20: =SUM(L15,L18,L19) -> 0 | ... N20: =SUM(N15,N18,N19) -> 0 | O20: =SUM(E20,G20,I20,K20,M20) -> 0 | P20: =SUM(F20,H20,J20,L20,N20) -> 0
A21: CA | B21: 대기업 대출 | C21: 신용대출 | O21: =SUM(E21,G21,I21,K21,M21) -> 0 | P21: =SUM(F21,H21,J21,L21,N21) -> 0
A22: CB1 | C22: 담보대출 | D22: 주택담보대출 | O22: =SUM(E22,G22,I22,K22,M22) -> 0 | P22: =SUM(F22,H22,J22,L22,N22) -> 0
A23: CB2 | D23: 기타담보대출 | O23: =SUM(E23,G23,I23,K23,M23) -> 0 | P23: =SUM(F23,H23,J23,L23,N23) -> 0
A24: CB | D24: 소계 | E24: =SUM(E22:E23) -> 0 | F24: =SUM(F22:F23) -> 0 | G24: =SUM(G22:G23) -> 0 | H24: =SUM(H22:H23) -> 0 | I24: =SUM(I22:I23) -> 0 | J24: =SUM(J22:J23) -> 0 | K24: =SUM(K22:K23) -> 0 | L24: =SUM(L22:L23) -> 0 | ... N24: =SUM(N22:N23) -> 0 | O24: =SUM(E24,G24,I24,K24,M24) -> 0 | P24: =SUM(F24,H24,J24,L24,N24) -> 0
A25: CC | C25: 기타대출 | O25: =SUM(E25,G25,I25,K25,M25) -> 0 | P25: =SUM(F25,H25,J25,L25,N25) -> 0
A26: C | C26: 소 계 | E26: =SUM(E21,E24,E25) -> 0 | F26: =SUM(F21,F24,F25) -> 0 | G26: =SUM(G21,G24,G25) -> 0 | H26: =SUM(H21,H24,H25) -> 0 | I26: =SUM(I21,I24,I25) -> 0 | J26: =SUM(J21,J24,J25) -> 0 | K26: =SUM(K21,K24,K25) -> 0 | L26: =SUM(L21,L24,L25) -> 0 | ... N26: =SUM(N21,N24,N25) -> 0 | O26: =SUM(E26,G26,I26,K26,M26) -> 0 | P26: =SUM(F26,H26,J26,L26,N26) -> 0
A27: D | B27: 합 계 | E27: =SUM(E14,E20,E26) -> 0 | F27: =SUM(F14,F20,F26) -> 0 | G27: =SUM(G14,G20,G26) -> 0 | H27: =SUM(H14,H20,H26) -> 0 | I27: =SUM(I14,I20,I26) -> 0 | J27: =SUM(J14,J20,J26) -> 0 | K27: =SUM(K14,K20,K26) -> 0 | L27: =SUM(L14,L20,L26) -> 0 | ... N27: =SUM(N14,N20,N26) -> 0 | O27: =SUM(E27,G27,I27,K27,M27) -> 0 | P27: =SUM(F27,H27,J27,L27,N27) -> 0
A29: [작성요령] | N29: 재무상태표 대출금과 전체합계금액(P27셀)이 일치하는지 재확인
A30: 1. 대출금액은 '16.3월말 잔액기준으로 작성
A31: 2. 중소기업은 원칙적으로 「중소기업기본법」상 중소기업을 의미하나, 개인사업자대출은 개인대출이 아닌 중소기업대출에 포함
A32: 3. "합계-금액"열의 "합계(D)"는 재무상태표'의 '16.3월말 '대출금' 계정(대손충당금 차감전, 대출취급액)과 일치하도록 작성
A33: ※ 매입채권은 제외

Sheet 4-2.개인신용대출금등급별명세
B1: 회사명 | C1: 구분 | D1: 부서명 | E1: 직위 | F1: 성명 | G1: 전화번호 | H1: email
C2: 작성자
C3: 확인자
A5: 4-2. 개인신용대출금 등급별 명세
P6: (단위 : 명, 원)
A7: 구 분 | E7: 300만원 이하 | G7: 300만원 초과 500만원 이하 | I7: 500만원 초과 1,000만원 이하 | K7: 1,000만원 초과 5,000만원 이하 | M7: 5,000만원 초과 | O7: 합 계
E8: 거래자수 | F8: 금액 | G8: 거래자수 | H8: 금액 | I8: 거래자수 | J8: 금액 | K8: 거래자수 | L8: 금액 | M8: 거래자수 | N8: 금액 | O8: 거래자수 | P8: 금액
A9: A1 | B9: 개인 신용 대출 | C9: NICE신용평가정보, 코리아크레딧뷰로(KCB) 중 택 | D9: 1등급 | O9: =SUM(M9,K9,I9,G9,E9) -> 0 | P9: =SUM(N9,L9,J9,H9,F9) -> 0
A10: A2 | D10: 2등급 | O10: =SUM(M10,K10,I10,G10,E10) -> 0 | P10: =SUM(N10,L10,J10,H10,F10) -> 0
A11: A3 | D11: 3등급 | O11: =SUM(M11,K11,I11,G11,E11) -> 0 | P11: =SUM(N11,L11,J11,H11,F11) -> 0
A12: A4 | D12: 4등급 | O12: =SUM(M12,K12,I12,G12,E12) -> 0 | P12: =SUM(N12,L12,J12,H12,F12) -> 0
A13: A5 | D13: 5등급 | O13: =SUM(M13,K13,I13,G13,E13) -> 0 | P13: =SUM(N13,L13,J13,H13,F13) -> 0
A14: A6 | D14: 6등급 | O14: =SUM(M14,K14,I14,G14,E14) -> 0 | P14: =SUM(N14,L14,J14,H14,F14) -> 0
A15: A7 | D15: 7등급 | O15: =SUM(M15,K15,I15,G15,E15) -> 0 | P15: =SUM(N15,L15,J15,H15,F15) -> 0
A16: A8 | D16: 8등급 | O16: =SUM(M16,K16,I16,G16,E16) -> 0 | P16: =SUM(N16,L16,J16,H16,F16) -> 0
A17: A9 | D17: 9등급 | O17: =SUM(M17,K17,I17,G17,E17) -> 0 | P17: =SUM(N17,L17,J17,H17,F17) -> 0
A18: A10 | D18: 10등급 | O18: =SUM(M18,K18,I18,G18,E18) -> 0 | P18: =SUM(N18,L18,J18,H18,F18) -> 0
A19: A11 | D19: 기타(등급없음 등) | O19: =SUM(M19,K19,I19,G19,E19) -> 0 | P19: =SUM(N19,L19,J19,H19,F19) -> 0
A20: B | B20: 합 계 | E20: =SUM(E9:E19) -> 0 | F20: =SUM(F9:F19) -> 0 | G20: =SUM(G9:G19) -> 0 | H20: =SUM(H9:H19) -> 0 | I20: =SUM(I9:I19) -> 0 | J20: =SUM(J9:J19) -> 0 | K20: =SUM(K9:K19) -> 0 | L20: =SUM(L9:L19) -> 0 | ... P20: =SUM(P9:P19) -> 0
N21: : "4-1 금액대별대출금명세"의 개인신용대출 거래자 및 금액의 합계와
A22: [작성요령] | N22: 일치하는지 여부 확인
A23: 1. 개인신용대출을 기준으로 작성(중소기업, 대기업 대출 제외)
A24: 2. 신용등급 기준은 NICE신용평가정보, 코리아크레딧뷰로(KCB) 중 택, 중복하여 사용하는 경우 1가지 기준으로 작성하고, 차주별로 별도의 신용조회기관을 사용하는 경우 2가지 이상 선택 가능
A25: 3. "합계-금액"열의 "합계(B)"는 '4-1. 금액대별대출금명세'의 개인 신용대출의 합계와 일치하도록 작성
A26: ※ 매입채권은 제외

Sheet 4-3.대출금리현황
B1: 회사명 | C1: 구분 | D1: 부서명 | E1: 직위 | F1: 성명 | G1: 전화번호 | H1: email
C2: 작성자
C3: 확인자
A5: 4-3. 대출금리 현황
J6: (단위 : 원, %)
A7: 구 분 | E7: 평균금리현황 | H7: 현행금리 | L7: 일치여부 확인
E8: 대출금잔액 | F8: 대출금이자 | G8: 가중평균금리 | H8: 최고 | I8: 최저 | J8: 연체 금리 | L8: 대출금
A9: AA | B9: 개인 대출 | C9: 신용대출 | G9: =F9/E9 -> #DIV/0! | L9: =IF(E9='4-1.금액대별대출금명세'!P9,"일치","불일치") -> 일치
A10: AB1 | C10: 담보대출 | D10: 주택담보대출 | G10: =F10/E10 -> #DIV/0! | L10: =IF(E10='4-1.금액대별대출금명세'!P10,"일치","불일치") -> 일치
A11: AB2 | D11: 기타담보대출 | G11: =F11/E11 -> #DIV/0! | L11: =IF(E11='4-1.금액대별대출금명세'!P11,"일치","불일치") -> 일치
A12: AB | D12: 소계 | E12: =SUM(E10:E11) -> 0 | F12: =SUM(F10:F11) -> 0 | G12: =F12/E12 -> #DIV/0! | L12: =IF(E12='4-1.금액대별대출금명세'!P12,"일치","불일치") -> 일치
A13: AC | C13: 기타대출 | G13: =F13/E13 -> #DIV/0! | L13: =IF(E13='4-1.금액대별대출금명세'!P13,"일치","불일치") -> 일치
A14: A | C14: 소 계 | E14: =SUM(E9,E12,E13) -> 0 | F14: =SUM(F9,F12,F13) -> 0 | G14: =F14/E14 -> #DIV/0! | L14: =IF(E14='4-1.금액대별대출금명세'!P14,"일치","불일치") -> 일치
A15: BA | B15: 중소 기업 대출 | C15: 신용대출 | G15: =F15/E15 -> #DIV/0! | L15: =IF(E15='4-1.금액대별대출금명세'!P15,"일치","불일치") -> 일치
A16: BB1 | C16: 담보대출 | D16: 주택담보대출 | G16: =F16/E16 -> #DIV/0! | L16: =IF(E16='4-1.금액대별대출금명세'!P16,"일치","불일치") -> 일치
A17: BB2 | D17: 기타담보대출 | G17: =F17/E17 -> #DIV/0! | L17: =IF(E17='4-1.금액대별대출금명세'!P17,"일치","불일치") -> 일치
A18: BB | D18: 소계 | E18: =SUM(E16:E17) -> 0 | F18: =SUM(F16:F17) -> 0 | G18: =F18/E18 -> #DIV/0! | L18: =IF(E18='4-1.금액대별대출금명세'!P18,"일치","불일치") -> 일치
A19: BC | C19: 기타대출 | F19: 0 | G19: =F19/E19 -> #DIV/0! | L19: =IF(E19='4-1.금액대별대출금명세'!P19,"일치","불일치") -> 일치
A20: B | C20: 소 계 | E20: =SUM(E15,E18,E19) -> 0 | F20: =SUM(F15,F18,F19) -> 0 | G20: =F20/E20 -> #DIV/0! | L20: =IF(E20='4-1.금액대별대출금명세'!P20,"일치","불일치") -> 일치
A21: CA | B21: 대기업 대출 | C21: 신용대출 | G21: =F21/E21 -> #DIV/0! | L21: =IF(E21='4-1.금액대별대출금명세'!P21,"일치","불일치") -> 일치
A22: CB1 | C22: 담보대출 | D22: 주택담보대출 | G22: =F22/E22 -> #DIV/0! | L22: =IF(E22='4-1.금액대별대출금명세'!P22,"일치","불일치") -> 일치
A23: CB2 | D23: 기타담보대출 | G23: =F23/E23 -> #DIV/0! | L23: =IF(E23='4-1.금액대별대출금명세'!P23,"일치","불일치") -> 일치
A24: CB | D24: 소계 | E24: =SUM(E22:E23) -> 0 | F24: =SUM(F22:F23) -> 0 | G24: =F24/E24 -> #DIV/0! | L24: =IF(E24='4-1.금액대별대출금명세'!P24,"일치","불일치") -> 일치
A25: CC | C25: 기타대출 | G25: =F25/E25 -> #DIV/0! | L25: =IF(E25='4-1.금액대별대출금명세'!P25,"일치","불일치") -> 일치
A26: C | C26: 소 계 | E26: =SUM(E21,E24,E25) -> 0 | F26: =SUM(F21,F24,F25) -> 0 | G26: =F26/E26 -> #DIV/0! | L26: =IF(E26='4-1.금액대별대출금명세'!P26,"일치","불일치") -> 일치
A27: D | B27: 합 계 | E27: =SUM(E14,E20,E26) -> 0 | F27: =SUM(F14,F20,F26) -> 0 | G27: =F27/E27 -> #DIV/0! | L27: =IF(E27='4-1.금액대별대출금명세'!P27,"일치","불일치") -> 일치
E29: : 재무상태표 대출금과 전체합계금액(E27셀)이 일치하는지 재확인 | L29: : 4-1.금액대별대출금명세의 대출금과 일치
A31: [작성요령]
A32: 1. 대출금잔액은 반기말 기준 대출건별 잔액의 합계금액을 기재(Σ대출건별 잔액)하되, 대출금잔액의 합계는
A33: '재무상태표'의 '16.3월말 '대출금' 계정과 일치하도록 작성
A34: 2. "대출금이자"는 대출건별 잔액에 대출건별 이자율(연율)을 곱하여 산출한 건별 대출금 이자를 모두 합산하여 기재
A35: [Σ(대출건별 잔액*대출건별 이자율)], 손익계산서상 대출금이자 금액과 다름]
A36: 3. "가중평균금리"는 (대출금 이자/대출금 잔액)*100
A37: 4. 금리는 연이율 기준으로 소수 둘째자리까지 표기(소수 셋째자리에서 반올림)
A38: ※ 대출금잔액, 대출금이자 및 가중평균금리 계산 사례 16.3월말 현재 대출금잔액(대손충당금 적립 전)이 100억원 1건 50억원(취급금리20%), 1건 40억원(취급금리 15%), 1건 10억원(취급금리 18%)인 경우 대출금이자=5,000,000,000x20%+4,000,000,000x15%+1,000,000,000*18%=1,780,000,000 가중평균금리=1,780,000,000/10,000,000,000x100=17.8%
A39: ※ 매입채권은 제외

Sheet 4-4.대출신청유형별대출명세
B1: 회사명 | C1: 구분 | D1: 부서명 | E1: 직위 | F1: 성명 | G1: 전화번호 | H1: email
C2: 작성자
C3: 확인자
A5: 4-4. 대출신청 유형별 대출명세
F6: (단위 : 건, 원)
A7: 구 분 | C7: 16.1~3월 기간중
C8: 신청건수 | D8: 신청금액 | E8: 승인건수 | F8: 대출금액
A9: A1 | B9: 중개업자
A10: A2 | B10: 인터넷
A11: A3 | B11: 콜센터(전화)
A12: A4 | B12: 기 타
A13: B | B13: 합 계 | C13: =SUM(C9:C12) -> 0 | D13: =SUM(D9:D12) -> 0 | E13: =SUM(E9:E12) -> 0 | F13: =SUM(F9:F12) -> 0
A15: [작성요령]
A16: 1. 항목별 실적은 당해 반기 중 신규 대출취급 금액을 기준으로 작성
A17: 2. 중개업자를 통해 접수된 경우 "중개업자", 인터넷, 콜센터, 기타 등의 방식으로 대부업자에게 직접 대출을 신청한 경우
A18: 해당되는 각 경로방법을 기재
A19: 예) 대부업자 홈페이지를 통해 접수된 경우 "인터넷", 콜센터에 직접 전화를 하여 신청한 경우 "콜센터(전화)"로 기재
A20: ※ 매입채권은 제외
